BEGIN:VCALENDAR
VERSION:2.0
PRODID:-//Bates Township - ECPv6.15.20//NONSGML v1.0//EN
CALSCALE:GREGORIAN
METHOD:PUBLISH
X-WR-CALNAME:Bates Township
X-ORIGINAL-URL:https://www.batestownship.com
X-WR-CALDESC:Events for Bates Township
REFRESH-INTERVAL;VALUE=DURATION:PT1H
X-Robots-Tag:noindex
X-PUBLISHED-TTL:PT1H
BEGIN:VTIMEZONE
TZID:America/Chicago
BEGIN:DAYLIGHT
TZOFFSETFROM:-0600
TZOFFSETTO:-0500
TZNAME:CDT
DTSTART:20240310T080000
END:DAYLIGHT
BEGIN:STANDARD
TZOFFSETFROM:-0500
TZOFFSETTO:-0600
TZNAME:CST
DTSTART:20241103T070000
END:STANDARD
BEGIN:DAYLIGHT
TZOFFSETFROM:-0600
TZOFFSETTO:-0500
TZNAME:CDT
DTSTART:20250309T080000
END:DAYLIGHT
BEGIN:STANDARD
TZOFFSETFROM:-0500
TZOFFSETTO:-0600
TZNAME:CST
DTSTART:20251102T070000
END:STANDARD
BEGIN:DAYLIGHT
TZOFFSETFROM:-0600
TZOFFSETTO:-0500
TZNAME:CDT
DTSTART:20260308T080000
END:DAYLIGHT
BEGIN:STANDARD
TZOFFSETFROM:-0500
TZOFFSETTO:-0600
TZNAME:CST
DTSTART:20261101T070000
END:STANDARD
END:VTIMEZONE
BEGIN:VEVENT
DTSTART;TZID=America/Chicago:20250723T093000
DTEND;TZID=America/Chicago:20250723T103000
DTSTAMP:20260424T082023
CREATED:20250423T183126Z
LAST-MODIFIED:20250714T210619Z
UID:257876-1753263000-1753266600@www.batestownship.com
SUMMARY:Board of Review
DESCRIPTION:
URL:https://www.batestownship.com/event/board-of-review/
END:VEVENT
BEGIN:VEVENT
DTSTART;TZID=America/Chicago:20250709T160000
DTEND;TZID=America/Chicago:20250709T170000
DTSTAMP:20260424T082023
CREATED:20250423T182906Z
LAST-MODIFIED:20250423T182906Z
UID:257874-1752076800-1752080400@www.batestownship.com
SUMMARY:Board of Trustees Meeting
DESCRIPTION:
URL:https://www.batestownship.com/event/board-of-trustees-meeting-2/
END:VEVENT
BEGIN:VEVENT
DTSTART;TZID=America/Chicago:20250611T160000
DTEND;TZID=America/Chicago:20250611T170000
DTSTAMP:20260424T082023
CREATED:20250422T011046Z
LAST-MODIFIED:20250422T011046Z
UID:257854-1749657600-1749661200@www.batestownship.com
SUMMARY:Board of Trustees Meeting
DESCRIPTION:
URL:https://www.batestownship.com/event/board-of-trustees-meeting/
END:VEVENT
BEGIN:VEVENT
DTSTART;TZID=America/Chicago:20250602T180000
DTEND;TZID=America/Chicago:20250602T190000
DTSTAMP:20260424T082023
CREATED:20250422T011139Z
LAST-MODIFIED:20250422T011139Z
UID:257856-1748887200-1748890800@www.batestownship.com
SUMMARY:Planning Commission Meeting
DESCRIPTION:
URL:https://www.batestownship.com/event/planning-commission-meeting/
END:VEVENT
BEGIN:VEVENT
DTSTART;TZID=America/Chicago:20250526T080000
DTEND;TZID=America/Chicago:20250526T090000
DTSTAMP:20260424T082023
CREATED:20250326T012053Z
LAST-MODIFIED:20250326T012053Z
UID:257672-1748246400-1748250000@www.batestownship.com
SUMMARY:Memorial Day Ceremony at Cemetery
DESCRIPTION:
URL:https://www.batestownship.com/event/2025-memorial-day-ceremony/
END:VEVENT
BEGIN:VEVENT
DTSTART;TZID=America/Chicago:20250507T160000
DTEND;TZID=America/Chicago:20250507T170000
DTSTAMP:20260424T082023
CREATED:20250326T011845Z
LAST-MODIFIED:20250422T010926Z
UID:257670-1746633600-1746637200@www.batestownship.com
SUMMARY:Board of Trustees Meeting
DESCRIPTION:
URL:https://www.batestownship.com/event/2025-may-board-meeting/
END:VEVENT
BEGIN:VEVENT
DTSTART;TZID=America/Chicago:20250505T180000
DTEND;TZID=America/Chicago:20250505T190000
DTSTAMP:20260424T082023
CREATED:20250326T011645Z
LAST-MODIFIED:20250326T011712Z
UID:257668-1746468000-1746471600@www.batestownship.com
SUMMARY:Planning Commission Meeting
DESCRIPTION:
URL:https://www.batestownship.com/event/2025-05-05/
LOCATION:Bates Township Hall\, 3070 Highway US 2\, Iron River\, MI\, 49935\, United States
END:VEVENT
BEGIN:VEVENT
DTSTART;TZID=America/Chicago:20250409T160000
DTEND;TZID=America/Chicago:20250409T170000
DTSTAMP:20260424T082023
CREATED:20250326T011532Z
LAST-MODIFIED:20250326T011745Z
UID:257665-1744214400-1744218000@www.batestownship.com
SUMMARY:Board of Trustees Meeting
DESCRIPTION:
URL:https://www.batestownship.com/event/2025-april-board-meeting/
LOCATION:Bates Township Hall\, 3070 Highway US 2\, Iron River\, MI\, 49935\, United States
END:VEVENT
END:VCALENDAR